OziExplorer Map Data File Version 2.2
M-35-121 Bytkiv
M-35-121.jpg
1 ,Map Code,
Pulkovo 1942 (1),WGS 84, 0.0000, 0.0000,WGS 84
Reserved 1
Reserved 2
Magnetic Variation,,,E
Map Projection,Transverse Mercator,PolyCal,No,AutoCalOnly,No,BSBUseWPX,No
Point01,xy, 99, 147,in, deg, 48, 40.0000,N, 24, 0.0000,E, grid, , , ,N
Point02,xy, 1190, 148,in, deg, 48, 40.0000,N, 24, 15.0000,E, grid, , , ,N
Point03,xy, 2285, 144,in, deg, 48, 40.0000,N, 24, 30.0000,E, grid, , , ,N
Point04,xy, 97, 1241,in, deg, 48, 30.0000,N, 24, 0.0000,E, grid, , , ,N
Point05,xy, 1196, 1243,in, deg, 48, 30.0000,N, 24, 15.0000,E, grid, , , ,N
Point06,xy, 2290, 1238,in, deg, 48, 30.0000,N, 24, 30.0000,E, grid, , , ,N
Point07,xy, 96, 2339,in, deg, 48, 20.0000,N, 24, 0.0000,E, grid, , , ,N
Point08,xy, 1196, 2339,in, deg, 48, 20.0000,N, 24, 15.0000,E, grid, , , ,N
Point09,xy, 2296, 2335,in, deg, 48, 20.0000,N, 24, 30.0000,E, grid, , , ,N
Point10,xy, , ,in, deg, , ,N, , ,E, grid, , , ,N
Point11,xy, , ,in, deg, , ,N, , ,E, grid, , , ,N
Point12,xy, , ,in, deg, , ,N, , ,E, grid, , , ,N
Point13,xy, , ,in, deg, , ,N, , ,E, grid, , , ,N
Point14,xy, , ,in, deg, , ,N, , ,E, grid, , , ,N
Point15,xy, , ,in, deg, , ,N, , ,E, grid, , , ,N
Point16,xy, , ,in, deg, , ,N, , ,E, grid, , , ,N
Point17,xy, , ,in, deg, , ,N, , ,E, grid, , , ,N
Point18,xy, , ,in, deg, , ,N, , ,E, grid, , , ,N
Point19,xy, , ,in, deg, , ,N, , ,E, grid, , , ,N
Point20,xy, , ,in, deg, , ,N, , ,E, grid, , , ,N
Point21,xy, , ,in, deg, , ,N, , ,E, grid, , , ,N
Point22,xy, , ,in, deg, , ,N, , ,E, grid, , , ,N
Point23,xy, , ,in, deg, , ,N, , ,E, grid, , , ,N
Point24,xy, , ,in, deg, , ,N, , ,E, grid, , , ,N
Point25,xy, , ,in, deg, , ,N, , ,E, grid, , , ,N
Point26,xy, , ,in, deg, , ,N, , ,E, grid, , , ,N
Point27,xy, , ,in, deg, , ,N, , ,E, grid, , , ,N
Point28,xy, , ,in, deg, , ,N, , ,E, grid, , , ,N
Point29,xy, , ,in, deg, , ,N, , ,E, grid, , , ,N
Point30,xy, , ,in, deg, , ,N, , ,E, grid, , , ,N
Projection Setup, 0.000000000, 27.000000000, 1.000000000, 5500000.00, 0.00,,,,,
Map Feature = MF ; Map Comment = MC These follow if they exist
Track File = TF These follow if they exist
Moving Map Parameters = MM? These follow if they exist
MM0,Yes
MMPNUM,4
MMPXY,1,99,148
MMPXY,2,2285,144
MMPXY,3,2297,2334
MMPXY,4,95,2339
MMPLL,1, 24.000079, 48.666492
MMPLL,2, 24.500124, 48.666625
MMPLL,3, 24.500156, 48.333462
MMPLL,4, 23.999745, 48.333241
MM1B,16.839547
LL Grid Setup
LLGRID,No,No Grid,Yes,255,16711680,0,No Labels,0,16777215,7,1,Yes,x
Other Grid Setup
GRGRID,No,2 Km,No,16711680,255,No Labels,0,16777215,8,1,Yes,No,No,x
MOP,Map Open Position,0,0
IWH,Map Image Width/Height,2396,2555
