OziExplorer Map Data File Version 2.2
M-35-121-4.gif
M-35-121-4.gif
1 ,Map Code,
Pulkovo 1942 (2),WGS 84, 0.0000, 0.0000,WGS 84
Reserved 1
Reserved 2
Magnetic Variation,,,E
Map Projection,Transverse Mercator,PolyCal,No,AutoCalOnly,No,BSBUseWPX,No
Point01,xy, 102, 84,in, deg, 48, 30,N, 24, 15,E, grid, , , ,N
Point02,xy, 1515, 99,ex, deg, 48, 30,N, 24, 22.5,E, grid, , , ,N
Point03,xy, 3027, 88,in, deg, 48, 30,N, 24, 30,E, grid, , , ,N
Point04,xy, 104, 1540,in, deg, 48, 25,N, 24, 15,E, grid, , , ,N
Point05,xy, 1566, 1541,in, deg, 48, 25,N, 24, 22.5,E, grid, , , ,N
Point06,xy, 3028, 1543,in, deg, 48, 25,N, 24, 30,E, grid, , , ,N
Point07,xy, 100, 2994,in, deg, 48, 20,N, 24, 15,E, grid, , , ,N
Point08,xy, 1515, 2998,ex, deg, 48, 20,N, 24, 22.5,E, grid, , , ,N
Point09,xy, 3032, 2999,in, deg, 48, 20,N, 24, 30,E, grid, , , ,N
Point10,xy, , ,in, deg, , ,N, , ,W, grid, , , ,N
Point11,xy, , ,in, deg, , ,N, , ,W, grid, , , ,N
Point12,xy, , ,in, deg, , ,N, , ,W, grid, , , ,N
Point13,xy, , ,in, deg, , ,N, , ,W, grid, , , ,N
Point14,xy, , ,in, deg, , ,N, , ,W, grid, , , ,N
Point15,xy, , ,in, deg, , ,N, , ,W, grid, , , ,N
Point16,xy, , ,in, deg, , ,N, , ,W, grid, , , ,N
Point17,xy, , ,in, deg, , ,N, , ,W, grid, , , ,N
Point18,xy, , ,in, deg, , ,N, , ,W, grid, , , ,N
Point19,xy, , ,in, deg, , ,N, , ,W, grid, , , ,N
Point20,xy, , ,in, deg, , ,N, , ,W, grid, , , ,N
Point21,xy, , ,in, deg, , ,N, , ,W, grid, , , ,N
Point22,xy, , ,in, deg, , ,N, , ,W, grid, , , ,N
Point23,xy, , ,in, deg, , ,N, , ,W, grid, , , ,N
Point24,xy, , ,in, deg, , ,N, , ,W, grid, , , ,N
Point25,xy, , ,in, deg, , ,N, , ,W, grid, , , ,N
Point26,xy, , ,in, deg, , ,N, , ,W, grid, , , ,N
Point27,xy, , ,in, deg, , ,N, , ,W, grid, , , ,N
Point28,xy, , ,in, deg, , ,N, , ,W, grid, , , ,N
Point29,xy, , ,in, deg, , ,N, , ,W, grid, , , ,N
Point30,xy, , ,in, deg, , ,N, , ,W, grid, , , ,N
Projection Setup, 0.000000000, 27.000000000, 1.000000000, 500000.00, 0.00,,,,,
Map Feature = MF ; Map Comment = MC These follow if they exist
Track File = TF These follow if they exist
Moving Map Parameters = MM? These follow if they exist
MM0,Yes
MMPNUM,4
MMPXY,1,102,85
MMPXY,2,3027,88
MMPXY,3,3032,2999
MMPXY,4,100,2995
MMPLL,1, 24.249852, 48.499931
MMPLL,2, 24.500091, 48.499996
MMPLL,3, 24.499981, 48.333293
MMPLL,4, 24.249963, 48.333300
MM1B,6.319476
MOP,Map Open Position,0,0
IWH,Map Image Width/Height,3129,3097
