OziExplorer Map Data File Version 2.2
M-35-121-3.gif
M-35-121-3.gif
1 ,Map Code,
Pulkovo 1942 (2),WGS 84, 0.0000, 0.0000,WGS 84
Reserved 1
Reserved 2
Magnetic Variation,,,E
Map Projection,Transverse Mercator,PolyCal,No,AutoCalOnly,No,BSBUseWPX,No
Point01,xy, 97, 99,in, deg, 48, 30,N, 24, 0,E, grid, , , ,N
Point02,xy, 1512, 100,ex, deg, 48, 30,N, 24, 7.5,E, grid, , , ,N
Point03,xy, 3020, 100,in, deg, 48, 30,N, 24, 15,E, grid, , , ,N
Point04,xy, 98, 1554,in, deg, 48, 25,N, 24, 0,E, grid, , , ,N
Point05,xy, 1562, 1554,in, deg, 48, 25,N, 24, 7.5,E, grid, , , ,N
Point06,xy, 3023, 1555,in, deg, 48, 25,N, 24, 15,E, grid, , , ,N
Point07,xy, 100, 3010,in, deg, 48, 20,N, 24, 0,E, grid, , , ,N
Point08,xy, 1512, 3010,ex, deg, 48, 20,N, 24, 7.5,E, grid, , , ,N
Point09,xy, 3025, 3011,in, deg, 48, 20,N, 24, 15,E, grid, , , ,N
Point10,xy, , ,in, deg, , ,N, , ,W, grid, , , ,N
Point11,xy, , ,in, deg, , ,N, , ,W, grid, , , ,N
Point12,xy, , ,in, deg, , ,N, , ,W, grid, , , ,N
Point13,xy, , ,in, deg, , ,N, , ,W, grid, , , ,N
Point14,xy, , ,in, deg, , ,N, , ,W, grid, , , ,N
Point15,xy, , ,in, deg, , ,N, , ,W, grid, , , ,N
Point16,xy, , ,in, deg, , ,N, , ,W, grid, , , ,N
Point17,xy, , ,in, deg, , ,N, , ,W, grid, , , ,N
Point18,xy, , ,in, deg, , ,N, , ,W, grid, , , ,N
Point19,xy, , ,in, deg, , ,N, , ,W, grid, , , ,N
Point20,xy, , ,in, deg, , ,N, , ,W, grid, , , ,N
Point21,xy, , ,in, deg, , ,N, , ,W, grid, , , ,N
Point22,xy, , ,in, deg, , ,N, , ,W, grid, , , ,N
Point23,xy, , ,in, deg, , ,N, , ,W, grid, , , ,N
Point24,xy, , ,in, deg, , ,N, , ,W, grid, , , ,N
Point25,xy, , ,in, deg, , ,N, , ,W, grid, , , ,N
Point26,xy, , ,in, deg, , ,N, , ,W, grid, , , ,N
Point27,xy, , ,in, deg, , ,N, , ,W, grid, , , ,N
Point28,xy, , ,in, deg, , ,N, , ,W, grid, , , ,N
Point29,xy, , ,in, deg, , ,N, , ,W, grid, , , ,N
Point30,xy, , ,in, deg, , ,N, , ,W, grid, , , ,N
Projection Setup, 0.000000000, 27.000000000, 1.000000000, 500000.00, 0.00,,,,,
Map Feature = MF ; Map Comment = MC These follow if they exist
Track File = TF These follow if they exist
Moving Map Parameters = MM? These follow if they exist
MM0,Yes
MMPNUM,4
MMPXY,1,98,98
MMPXY,2,3020,99
MMPXY,3,3024,3010
MMPXY,4,100,3010
MMPLL,1, 23.999918, 48.500027
MMPLL,2, 24.250129, 48.500035
MMPLL,3, 24.249720, 48.333361
MMPLL,4, 24.000156, 48.333311
MM1B,6.324869
MOP,Map Open Position,0,0
IWH,Map Image Width/Height,3124,3110
