OziExplorer Map Data File Version 2.2
M-35-121-2 by Petlth :)
M-35-121-2.jpg
1 ,Map Code,
WGS 84,WGS 84, 0.0000, 0.0000,WGS 84
Reserved 1
Reserved 2
Magnetic Variation,,,E
Map Projection,Mercator,PolyCal,No,AutoCalOnly,No,BSBUseWPX,No
Point01,xy, 32, 421,in, deg, 48, 39,N, 24, 15,E, grid, , , ,N
Point02,xy, 4201, 421,in, deg, 48, 39,N, 24, 30,E, grid, , , ,N
Point03,xy, 4204, 4190,in, deg, 48, 30,N, 24, 30,E, grid, , , ,N
Point04,xy, 34, 4189,in, deg, 48, 30,N, 24, 15,E, grid, , , ,N
Point05,xy, 1980, 1260,in, deg, 48, 37,N, 24, 22,E, grid, , , ,N
Point06,xy, 1980, 2933,in, deg, 48, 33,N, 24, 22,E, grid, , , ,N
Point07,xy, 868, 2097,in, deg, 48, 35,N, 24, 18,E, grid, , , ,N
Point08,xy, 3371, 2097,in, deg, 48, 35,N, 24, 27,E, grid, , , ,N
Point09,xy, , ,in, deg, , ,N, , ,W, grid, , , ,N
Point10,xy, , ,in, deg, , ,N, , ,W, grid, , , ,N
Point11,xy, , ,in, deg, , ,N, , ,W, grid, , , ,N
Point12,xy, , ,in, deg, , ,N, , ,W, grid, , , ,N
Point13,xy, , ,in, deg, , ,N, , ,W, grid, , , ,N
Point14,xy, , ,in, deg, , ,N, , ,W, grid, , , ,N
Point15,xy, , ,in, deg, , ,N, , ,W, grid, , , ,N
Point16,xy, , ,in, deg, , ,N, , ,W, grid, , , ,N
Point17,xy, , ,in, deg, , ,N, , ,W, grid, , , ,N
Point18,xy, , ,in, deg, , ,N, , ,W, grid, , , ,N
Point19,xy, , ,in, deg, , ,N, , ,W, grid, , , ,N
Point20,xy, , ,in, deg, , ,N, , ,W, grid, , , ,N
Point21,xy, , ,in, deg, , ,N, , ,W, grid, , , ,N
Point22,xy, , ,in, deg, , ,N, , ,W, grid, , , ,N
Point23,xy, , ,in, deg, , ,N, , ,W, grid, , , ,N
Point24,xy, , ,in, deg, , ,N, , ,W, grid, , , ,N
Point25,xy, , ,in, deg, , ,N, , ,W, grid, , , ,N
Point26,xy, , ,in, deg, , ,N, , ,W, grid, , , ,N
Point27,xy, , ,in, deg, , ,N, , ,W, grid, , , ,N
Point28,xy, , ,in, deg, , ,N, , ,W, grid, , , ,N
Point29,xy, , ,in, deg, , ,N, , ,W, grid, , , ,N
Point30,xy, , ,in, deg, , ,N, , ,W, grid, , , ,N
Projection Setup, 0.000000000, -120.000000000, 0.999600000, 0.00, -4000000.00, 34.000000000, 40.500000000,,,
Map Feature = MF ; Map Comment = MC These follow if they exist
Track File = TF These follow if they exist
Moving Map Parameters = MM? These follow if they exist
MM0,Yes
MMPNUM,4
MMPXY,1,0,22
MMPXY,2,4204,48
MMPXY,3,4204,4203
MMPXY,4,0,4203
MMPLL,1, 24.248059, 48.665848
MMPLL,2, 24.500108, 48.664833
MMPLL,3, 24.499969, 48.499455
MMPLL,4, 24.247918, 48.499437
MM1B,4.421173
MOP,Map Open Position,0,0
IWH,Map Image Width/Height,4204,4203
