OziExplorer Map Data File Version 2.2
M-35-121-1 Ãóòà
M-35-121-1.jpg
1 ,Map Code,
Pulkovo 1942 (1),, 0.0000, 0.0000,WGS 84
Reserved 1
Reserved 2
Magnetic Variation,,,E
Map Projection,Transverse Mercator,PolyCal,No,AutoCalOnly,No,BSBUseWPX,No
Point01,xy, 142, 268,in, deg, 48, 40.0000,N, 24, 0.0000,E, grid, , , ,N
Point02,xy, 1630, 270,in, deg, 48, 40.0000,N, 24, 7.5000,E, grid, , , ,N
Point03,xy, 3122, 273,in, deg, 48, 40.0000,N, 24, 15.0000,E, grid, , , ,N
Point04,xy, 149, 1755,in, deg, 48, 35,N, 24, 0,E, grid, , , ,N
Point05,xy, 1638, 1757,in, deg, 48, 35,N, 24, 7.5,E, grid, , , ,N
Point06,xy, 3125, 1762,in, deg, 48, 35,N, 24, 15,E, grid, , , ,N
Point07,xy, 149, 3242,in, deg, 48, 30.0000,N, 24, 0.0000,E, grid, , , ,N
Point08,xy, 1646, 3243,in, deg, 48, 30,N, 24, 7.5,E, grid, , , ,N
Point09,xy, 3136, 3244,in, deg, 48, 30.0000,N, 24, 15.0000,E, grid, , , ,N
Point10,xy, , ,in, deg, , ,N, , ,W, grid, , , ,N
Point11,xy, , ,in, deg, , ,N, , ,W, grid, , , ,N
Point12,xy, , ,in, deg, , ,N, , ,W, grid, , , ,N
Point13,xy, , ,in, deg, , ,N, , ,W, grid, , , ,N
Point14,xy, , ,in, deg, , ,N, , ,W, grid, , , ,N
Point15,xy, , ,in, deg, , ,N, , ,W, grid, , , ,N
Point16,xy, , ,in, deg, , ,N, , ,W, grid, , , ,N
Point17,xy, , ,in, deg, , ,N, , ,W, grid, , , ,N
Point18,xy, , ,in, deg, , ,N, , ,W, grid, , , ,N
Point19,xy, , ,in, deg, , ,N, , ,W, grid, , , ,N
Point20,xy, , ,in, deg, , ,N, , ,W, grid, , , ,N
Point21,xy, , ,in, deg, , ,N, , ,W, grid, , , ,N
Point22,xy, , ,in, deg, , ,N, , ,W, grid, , , ,N
Point23,xy, , ,in, deg, , ,N, , ,W, grid, , , ,N
Point24,xy, , ,in, deg, , ,N, , ,W, grid, , , ,N
Point25,xy, , ,in, deg, , ,N, , ,W, grid, , , ,N
Point26,xy, , ,in, deg, , ,N, , ,W, grid, , , ,N
Point27,xy, , ,in, deg, , ,N, , ,W, grid, , , ,N
Point28,xy, , ,in, deg, , ,N, , ,W, grid, , , ,N
Point29,xy, , ,in, deg, , ,N, , ,W, grid, , , ,N
Point30,xy, , ,in, deg, , ,N, , ,W, grid, , , ,N
Projection Setup, 0.000000000, 27.000000000, 1.000000000, 5500000.00, 0.00,,,,,
Map Feature = MF ; Map Comment = MC These follow if they exist
Track File = TF These follow if they exist
Moving Map Parameters = MM? These follow if they exist
MM0,Yes
MMPNUM,4
MMPXY,1,142,268
MMPXY,2,3122,273
MMPXY,3,3136,3244
MMPXY,4,149,3242
MMPLL,1, 23.999897, 48.666665
MMPLL,2, 24.250140, 48.666598
MMPLL,3, 24.249954, 48.500073
MMPLL,4, 23.999861, 48.499875
MM1B,6.184605
MOP,Map Open Position,0,0
IWH,Map Image Width/Height,3300,3626
