OziExplorer Map Data File Version 2.2
M-34-132 Mizgirya
M-34-132.jpg
1 ,Map Code,
Pulkovo 1942 (1),WGS 84, 0.0000, 0.0000,WGS 84
Reserved 1
Reserved 2
Magnetic Variation,,,E
Map Projection,Transverse Mercator,PolyCal,No,AutoCalOnly,No,BSBUseWPX,No
Point01,xy, 84, 147,in, deg, 48, 40.0000,N, 23, 30.0000,E, grid, , , ,N
Point02,xy, 1174, 146,in, deg, 48, 40.0000,N, 23, 45.0000,E, grid, , , ,N
Point03,xy, 2268, 140,in, deg, 48, 40.0000,N, 24, 0.0000,E, grid, , , ,N
Point04,xy, 83, 1243,in, deg, 48, 30.0000,N, 23, 30.0000,E, grid, , , ,N
Point05,xy, 1179, 1241,in, deg, 48, 30.0000,N, 23, 45.0000,E, grid, , , ,N
Point06,xy, 2274, 1235,in, deg, 48, 30.0000,N, 24, 0.0000,E, grid, , , ,N
Point07,xy, 84, 2337,in, deg, 48, 20.0000,N, 23, 30.0000,E, grid, , , ,N
Point08,xy, 1190, 2335,in, deg, 48, 20.0000,N, 23, 45.0000,E, grid, , , ,N
Point09,xy, 2281, 2330,in, deg, 48, 20.0000,N, 24, 0.0000,E, grid, , , ,N
Point10,xy, , ,in, deg, , ,N, , ,E, grid, , , ,N
Point11,xy, , ,in, deg, , ,N, , ,E, grid, , , ,N
Point12,xy, , ,in, deg, , ,N, , ,E, grid, , , ,N
Point13,xy, , ,in, deg, , ,N, , ,E, grid, , , ,N
Point14,xy, , ,in, deg, , ,N, , ,E, grid, , , ,N
Point15,xy, , ,in, deg, , ,N, , ,E, grid, , , ,N
Point16,xy, , ,in, deg, , ,N, , ,E, grid, , , ,N
Point17,xy, , ,in, deg, , ,N, , ,E, grid, , , ,N
Point18,xy, , ,in, deg, , ,N, , ,E, grid, , , ,N
Point19,xy, , ,in, deg, , ,N, , ,E, grid, , , ,N
Point20,xy, , ,in, deg, , ,N, , ,E, grid, , , ,N
Point21,xy, , ,in, deg, , ,N, , ,E, grid, , , ,N
Point22,xy, , ,in, deg, , ,N, , ,E, grid, , , ,N
Point23,xy, , ,in, deg, , ,N, , ,E, grid, , , ,N
Point24,xy, , ,in, deg, , ,N, , ,E, grid, , , ,N
Point25,xy, , ,in, deg, , ,N, , ,E, grid, , , ,N
Point26,xy, , ,in, deg, , ,N, , ,E, grid, , , ,N
Point27,xy, , ,in, deg, , ,N, , ,E, grid, , , ,N
Point28,xy, , ,in, deg, , ,N, , ,E, grid, , , ,N
Point29,xy, , ,in, deg, , ,N, , ,E, grid, , , ,N
Point30,xy, , ,in, deg, , ,N, , ,E, grid, , , ,N
Projection Setup, 0.000000000, 21.000000000, 1.000000000, 4500000.00, 0.00,,,,,
Map Feature = MF ; Map Comment = MC These follow if they exist
Track File = TF These follow if they exist
Moving Map Parameters = MM? These follow if they exist
MM0,Yes
MMPNUM,4
MMPXY,1,84,147
MMPXY,2,2268,140
MMPXY,3,2281,2330
MMPXY,4,84,2337
MMPLL,1, 23.500208, 48.666767
MMPLL,2, 24.000329, 48.666687
MMPLL,3, 23.999449, 48.333334
MMPLL,4, 23.499642, 48.333355
MM1B,16.860261
LL Grid Setup
LLGRID,No,No Grid,Yes,255,16711680,0,No Labels,0,16777215,7,1,Yes,x
Other Grid Setup
GRGRID,No,2 Km,No,16711680,255,No Labels,0,16777215,8,1,Yes,No,No,x
MOP,Map Open Position,0,0
IWH,Map Image Width/Height,2383,2555
