OziExplorer Map Data File Version 2.2
M-34-132-4 Lopuhiv
M-34-132-4.jpg
1 ,Map Code,
Pulkovo 1942 (1),WGS 84, 0.0000, 0.0000,WGS 84
Reserved 1
Reserved 2
Magnetic Variation,,,E
Map Projection,Transverse Mercator,PolyCal,No,AutoCalOnly,No,BSBUseWPX,No
Point01,xy, 204, 263,in, deg, 48, 30.0000,N, 23, 45.0000,E, grid, , , ,N
Point02,xy, 1678, 257,in, deg, 48, 30.0000,N, 23, 52.5000,E, grid, , , ,N
Point03,xy, 3148, 253,in, deg, 48, 30.0000,N, 24, 0.0000,E, grid, , , ,N
Point04,xy, 201, 1728,in, deg, 48, 25.0000,N, 23, 45.0000,E, grid, , , ,N
Point05,xy, 1673, 1724,in, deg, 48, 25.0000,N, 23, 52.5000,E, grid, , , ,N
Point06,xy, 3148, 1720,in, deg, 48, 25.0000,N, 24, 0.0000,E, grid, , , ,N
Point07,xy, 199, 3192,in, deg, 48, 20.0000,N, 23, 45.0000,E, grid, , , ,N
Point08,xy, 1675, 3185,in, deg, 48, 20.0000,N, 23, 52.5000,E, grid, , , ,N
Point09,xy, 3152, 3176,in, deg, 48, 20.0000,N, 24, 0.0000,E, grid, , , ,N
Point10,xy, , ,in, deg, , ,N, , ,W, grid, , , ,N
Point11,xy, , ,in, deg, , ,N, , ,W, grid, , , ,N
Point12,xy, , ,in, deg, , ,N, , ,W, grid, , , ,N
Point13,xy, , ,in, deg, , ,N, , ,W, grid, , , ,N
Point14,xy, , ,in, deg, , ,N, , ,W, grid, , , ,N
Point15,xy, , ,in, deg, , ,N, , ,W, grid, , , ,N
Point16,xy, , ,in, deg, , ,N, , ,W, grid, , , ,N
Point17,xy, , ,in, deg, , ,N, , ,W, grid, , , ,N
Point18,xy, , ,in, deg, , ,N, , ,W, grid, , , ,N
Point19,xy, , ,in, deg, , ,N, , ,W, grid, , , ,N
Point20,xy, , ,in, deg, , ,N, , ,W, grid, , , ,N
Point21,xy, , ,in, deg, , ,N, , ,W, grid, , , ,N
Point22,xy, , ,in, deg, , ,N, , ,W, grid, , , ,N
Point23,xy, , ,in, deg, , ,N, , ,W, grid, , , ,N
Point24,xy, , ,in, deg, , ,N, , ,W, grid, , , ,N
Point25,xy, , ,in, deg, , ,N, , ,W, grid, , , ,N
Point26,xy, , ,in, deg, , ,N, , ,W, grid, , , ,N
Point27,xy, , ,in, deg, , ,N, , ,W, grid, , , ,N
Point28,xy, , ,in, deg, , ,N, , ,W, grid, , , ,N
Point29,xy, , ,in, deg, , ,N, , ,W, grid, , , ,N
Point30,xy, , ,in, deg, , ,N, , ,W, grid, , , ,N
Projection Setup, 0.000000000, 21.000000000, 1.000000000, 4500000.00, 0.00,,,,,
Map Feature = MF ; Map Comment = MC These follow if they exist
Track File = TF These follow if they exist
Moving Map Parameters = MM? These follow if they exist
MM0,Yes
MMPNUM,4
MMPXY,1,204,263
MMPXY,2,3148,253
MMPXY,3,3152,3176
MMPXY,4,199,3192
MMPLL,1, 23.749965, 48.500057
MMPLL,2, 24.000035, 48.499973
MMPLL,3, 24.000078, 48.333522
MMPLL,4, 23.750063, 48.333250
MM1B,6.274926
MOP,Map Open Position,0,0
IWH,Map Image Width/Height,3338,3557
