OziExplorer Map Data File Version 2.2
M-34-132-3 Kolochava
M-34-132-3.jpg
1 ,Map Code,
Pulkovo 1942 (1),WGS 84, 0.0000, 0.0000,WGS 84
Reserved 1
Reserved 2
Magnetic Variation,,,E
Map Projection,Transverse Mercator,PolyCal,No,AutoCalOnly,No,BSBUseWPX,No
Point01,xy, 187, 260,in, deg, 48, 30.0000,N, 23, 30.0000,E, grid, , , ,N
Point02,xy, 1658, 255,in, deg, 48, 30.0000,N, 23, 37.5000,E, grid, , , ,N
Point03,xy, 3130, 249,in, deg, 48, 30.0000,N, 23, 45.0000,E, grid, , , ,N
Point04,xy, 186, 1724,in, deg, 48, 25.0000,N, 23, 30.0000,E, grid, , , ,N
Point05,xy, 1660, 1716,in, deg, 48, 25.0000,N, 23, 37.5000,E, grid, , , ,N
Point06,xy, 3133, 1710,in, deg, 48, 25.0000,N, 23, 45.0000,E, grid, , , ,N
Point07,xy, 188, 3186,in, deg, 48, 20.0000,N, 23, 30.0000,E, grid, , , ,N
Point08,xy, 1665, 3175,in, deg, 48, 20.0000,N, 23, 37.5000,E, grid, , , ,N
Point09,xy, 3139, 3166,in, deg, 48, 20.0000,N, 23, 45.0000,E, grid, , , ,N
Point10,xy, , ,in, deg, , ,N, , ,W, grid, , , ,N
Point11,xy, , ,in, deg, , ,N, , ,W, grid, , , ,N
Point12,xy, , ,in, deg, , ,N, , ,W, grid, , , ,N
Point13,xy, , ,in, deg, , ,N, , ,W, grid, , , ,N
Point14,xy, , ,in, deg, , ,N, , ,W, grid, , , ,N
Point15,xy, , ,in, deg, , ,N, , ,W, grid, , , ,N
Point16,xy, , ,in, deg, , ,N, , ,W, grid, , , ,N
Point17,xy, , ,in, deg, , ,N, , ,W, grid, , , ,N
Point18,xy, , ,in, deg, , ,N, , ,W, grid, , , ,N
Point19,xy, , ,in, deg, , ,N, , ,W, grid, , , ,N
Point20,xy, , ,in, deg, , ,N, , ,W, grid, , , ,N
Point21,xy, , ,in, deg, , ,N, , ,W, grid, , , ,N
Point22,xy, , ,in, deg, , ,N, , ,W, grid, , , ,N
Point23,xy, , ,in, deg, , ,N, , ,W, grid, , , ,N
Point24,xy, , ,in, deg, , ,N, , ,W, grid, , , ,N
Point25,xy, , ,in, deg, , ,N, , ,W, grid, , , ,N
Point26,xy, , ,in, deg, , ,N, , ,W, grid, , , ,N
Point27,xy, , ,in, deg, , ,N, , ,W, grid, , , ,N
Point28,xy, , ,in, deg, , ,N, , ,W, grid, , , ,N
Point29,xy, , ,in, deg, , ,N, , ,W, grid, , , ,N
Point30,xy, , ,in, deg, , ,N, , ,W, grid, , , ,N
Projection Setup, 0.000000000, 21.000000000, 1.000000000, 4500000.00, 0.00,,,,,
Map Feature = MF ; Map Comment = MC These follow if they exist
Track File = TF These follow if they exist
Moving Map Parameters = MM? These follow if they exist
MM0,Yes
MMPNUM,4
MMPXY,1,187,260
MMPXY,2,3130,249
MMPXY,3,3139,3166
MMPXY,4,188,3186
MMPLL,1, 23.500022, 48.500132
MMPLL,2, 23.750091, 48.499898
MMPLL,3, 23.749966, 48.333466
MMPLL,4, 23.500035, 48.333174
MM1B,6.277332
MOP,Map Open Position,0,0
IWH,Map Image Width/Height,3331,3544
