OziExplorer Map Data File Version 2.2
M-34-132-2 Sloboda
M-34-132-2.jpg
1 ,Map Code,
Pulkovo 1942 (1),WGS 84, 0.0000, 0.0000,WGS 84
Reserved 1
Reserved 2
Magnetic Variation,,,E
Map Projection,Transverse Mercator,PolyCal,No,AutoCalOnly,No,BSBUseWPX,No
Point01,xy, 154, 304,in, deg, 48, 40.0000,N, 23, 45.0000,E, grid, , , ,N
Point02,xy, 1620, 302,in, deg, 48, 40.0000,N, 23, 52.5000,E, grid, , , ,N
Point03,xy, 3078, 294,in, deg, 48, 40.0000,N, 24, 0.0000,E, grid, , , ,N
Point04,xy, 147, 1769,in, deg, 48, 35.0000,N, 23, 45.0000,E, grid, , , ,N
Point05,xy, 1619, 1762,in, deg, 48, 35.0000,N, 23, 52.5000,E, grid, , , ,N
Point06,xy, 3081, 1756,in, deg, 48, 35.0000,N, 24, 0.0000,E, grid, , , ,N
Point07,xy, 144, 3228,in, deg, 48, 30.0000,N, 23, 45.0000,E, grid, , , ,N
Point08,xy, 1617, 3222,in, deg, 48, 30.0000,N, 23, 52.5000,E, grid, , , ,N
Point09,xy, 3083, 3218,in, deg, 48, 30.0000,N, 24, 0.0000,E, grid, , , ,N
Point10,xy, , ,in, deg, , ,N, , ,W, grid, , , ,N
Point11,xy, , ,in, deg, , ,N, , ,W, grid, , , ,N
Point12,xy, , ,in, deg, , ,N, , ,W, grid, , , ,N
Point13,xy, , ,in, deg, , ,N, , ,W, grid, , , ,N
Point14,xy, , ,in, deg, , ,N, , ,W, grid, , , ,N
Point15,xy, , ,in, deg, , ,N, , ,W, grid, , , ,N
Point16,xy, , ,in, deg, , ,N, , ,W, grid, , , ,N
Point17,xy, , ,in, deg, , ,N, , ,W, grid, , , ,N
Point18,xy, , ,in, deg, , ,N, , ,W, grid, , , ,N
Point19,xy, , ,in, deg, , ,N, , ,W, grid, , , ,N
Point20,xy, , ,in, deg, , ,N, , ,W, grid, , , ,N
Point21,xy, , ,in, deg, , ,N, , ,W, grid, , , ,N
Point22,xy, , ,in, deg, , ,N, , ,W, grid, , , ,N
Point23,xy, , ,in, deg, , ,N, , ,W, grid, , , ,N
Point24,xy, , ,in, deg, , ,N, , ,W, grid, , , ,N
Point25,xy, , ,in, deg, , ,N, , ,W, grid, , , ,N
Point26,xy, , ,in, deg, , ,N, , ,W, grid, , , ,N
Point27,xy, , ,in, deg, , ,N, , ,W, grid, , , ,N
Point28,xy, , ,in, deg, , ,N, , ,W, grid, , , ,N
Point29,xy, , ,in, deg, , ,N, , ,W, grid, , , ,N
Point30,xy, , ,in, deg, , ,N, , ,W, grid, , , ,N
Projection Setup, 0.000000000, 21.000000000, 1.000000000, 4500000.00, 0.00,,,,,
Map Feature = MF ; Map Comment = MC These follow if they exist
Track File = TF These follow if they exist
Moving Map Parameters = MM? These follow if they exist
MM0,Yes
MMPNUM,4
MMPXY,1,154,304
MMPXY,2,3077,294
MMPXY,3,3082,3217
MMPXY,4,143,3229
MMPLL,1, 23.750045, 48.666752
MMPLL,2, 23.999661, 48.666689
MMPLL,3, 23.999903, 48.500010
MMPLL,4, 23.749747, 48.499946
MM1B,6.287741
MOP,Map Open Position,0,0
IWH,Map Image Width/Height,3332,3559
