OziExplorer Map Data File Version 2.2
M-34-132-1 Mizgirya
M-34-132-1.jpg
1 ,Map Code,
Pulkovo 1942 (1),WGS 84, 0.0000, 0.0000,WGS 84
Reserved 1
Reserved 2
Magnetic Variation,,,E
Map Projection,Transverse Mercator,PolyCal,No,AutoCalOnly,No,BSBUseWPX,No
Point01,xy, 165, 255,in, deg, 48, 40.0000,N, 23, 30.0000,E, grid, , , ,N
Point02,xy, 1638, 255,in, deg, 48, 40.0000,N, 23, 37.5000,E, grid, , , ,N
Point03,xy, 3108, 256,in, deg, 48, 40.0000,N, 23, 45.0000,E, grid, , , ,N
Point04,xy, 158, 1721,in, deg, 48, 35.0000,N, 23, 30.0000,E, grid, , , ,N
Point05,xy, 1627, 1722,in, deg, 48, 35.0000,N, 23, 37.5000,E, grid, , , ,N
Point06,xy, 3102, 1723,in, deg, 48, 35.0000,N, 23, 45.0000,E, grid, , , ,N
Point07,xy, 147, 3183,in, deg, 48, 30.0000,N, 23, 30.0000,E, grid, , , ,N
Point08,xy, 1619, 3185,in, deg, 48, 30.0000,N, 23, 37.5000,E, grid, , , ,N
Point09,xy, 3098, 3181,in, deg, 48, 30.0000,N, 23, 45.0000,E, grid, , , ,N
Point10,xy, , ,in, deg, , ,N, , ,W, grid, , , ,N
Point11,xy, , ,in, deg, , ,N, , ,W, grid, , , ,N
Point12,xy, , ,in, deg, , ,N, , ,W, grid, , , ,N
Point13,xy, , ,in, deg, , ,N, , ,W, grid, , , ,N
Point14,xy, , ,in, deg, , ,N, , ,W, grid, , , ,N
Point15,xy, , ,in, deg, , ,N, , ,W, grid, , , ,N
Point16,xy, , ,in, deg, , ,N, , ,W, grid, , , ,N
Point17,xy, , ,in, deg, , ,N, , ,W, grid, , , ,N
Point18,xy, , ,in, deg, , ,N, , ,W, grid, , , ,N
Point19,xy, , ,in, deg, , ,N, , ,W, grid, , , ,N
Point20,xy, , ,in, deg, , ,N, , ,W, grid, , , ,N
Point21,xy, , ,in, deg, , ,N, , ,W, grid, , , ,N
Point22,xy, , ,in, deg, , ,N, , ,W, grid, , , ,N
Point23,xy, , ,in, deg, , ,N, , ,W, grid, , , ,N
Point24,xy, , ,in, deg, , ,N, , ,W, grid, , , ,N
Point25,xy, , ,in, deg, , ,N, , ,W, grid, , , ,N
Point26,xy, , ,in, deg, , ,N, , ,W, grid, , , ,N
Point27,xy, , ,in, deg, , ,N, , ,W, grid, , , ,N
Point28,xy, , ,in, deg, , ,N, , ,W, grid, , , ,N
Point29,xy, , ,in, deg, , ,N, , ,W, grid, , , ,N
Point30,xy, , ,in, deg, , ,N, , ,W, grid, , , ,N
Projection Setup, 0.000000000, 21.000000000, 1.000000000, 4500000.00, 0.00,,,,,
Map Feature = MF ; Map Comment = MC These follow if they exist
Track File = TF These follow if they exist
Moving Map Parameters = MM? These follow if they exist
MM0,Yes
MMPNUM,4
MMPXY,1,165,255
MMPXY,2,3106,257
MMPXY,3,3097,3181
MMPXY,4,147,3184
MMPLL,1, 23.499883, 48.666711
MMPLL,2, 23.749871, 48.666609
MMPLL,3, 23.750024, 48.500158
MMPLL,4, 23.500097, 48.499961
MM1B,6.257803
Other Grid Setup
GRGRID,Yes,2 Km,No,16711680,255,No Labels,0,16777215,8,1,Yes,No,No,x
MOP,Map Open Position,0,0
IWH,Map Image Width/Height,3274,3567
