OziExplorer Map Data File Version 2.2
M-34-120-4 Myslivka
M-34-120-4.jpg
1 ,Map Code,
Pulkovo 1942 (1),WGS 84, 0.0000, 0.0000,WGS 84
Reserved 1
Reserved 2
Magnetic Variation,,,E
Map Projection,Transverse Mercator,PolyCal,No,AutoCalOnly,No,BSBUseWPX,No
Point01,xy, 144, 274,in, deg, 48, 50.0000,N, 23, 45.0000,E, grid, , , ,N
Point02,xy, 1597, 267,in, deg, 48, 50.0000,N, 23, 52.5000,E, grid, , , ,N
Point03,xy, 3064, 259,in, deg, 48, 50.0000,N, 24, 0.0000,E, grid, , , ,N
Point04,xy, 142, 1740,in, deg, 48, 45.0000,N, 23, 45.0000,E, grid, , , ,N
Point05,xy, 1606, 1731,in, deg, 48, 45.0000,N, 23, 52.5000,E, grid, , , ,N
Point06,xy, 3068, 1725,in, deg, 48, 45.0000,N, 24, 0.0000,E, grid, , , ,N
Point07,xy, 140, 3199,in, deg, 48, 40.0000,N, 23, 45.0000,E, grid, , , ,N
Point08,xy, 1605, 3193,in, deg, 48, 40.0000,N, 23, 52.5000,E, grid, , , ,N
Point09,xy, 3073, 3184,in, deg, 48, 40.0000,N, 24, 0.0000,E, grid, , , ,N
Point10,xy, , ,in, deg, , ,N, , ,W, grid, , , ,N
Point11,xy, , ,in, deg, , ,N, , ,W, grid, , , ,N
Point12,xy, , ,in, deg, , ,N, , ,W, grid, , , ,N
Point13,xy, , ,in, deg, , ,N, , ,W, grid, , , ,N
Point14,xy, , ,in, deg, , ,N, , ,W, grid, , , ,N
Point15,xy, , ,in, deg, , ,N, , ,W, grid, , , ,N
Point16,xy, , ,in, deg, , ,N, , ,W, grid, , , ,N
Point17,xy, , ,in, deg, , ,N, , ,W, grid, , , ,N
Point18,xy, , ,in, deg, , ,N, , ,W, grid, , , ,N
Point19,xy, , ,in, deg, , ,N, , ,W, grid, , , ,N
Point20,xy, , ,in, deg, , ,N, , ,W, grid, , , ,N
Point21,xy, , ,in, deg, , ,N, , ,W, grid, , , ,N
Point22,xy, , ,in, deg, , ,N, , ,W, grid, , , ,N
Point23,xy, , ,in, deg, , ,N, , ,W, grid, , , ,N
Point24,xy, , ,in, deg, , ,N, , ,W, grid, , , ,N
Point25,xy, , ,in, deg, , ,N, , ,W, grid, , , ,N
Point26,xy, , ,in, deg, , ,N, , ,W, grid, , , ,N
Point27,xy, , ,in, deg, , ,N, , ,W, grid, , , ,N
Point28,xy, , ,in, deg, , ,N, , ,W, grid, , , ,N
Point29,xy, , ,in, deg, , ,N, , ,W, grid, , , ,N
Point30,xy, , ,in, deg, , ,N, , ,W, grid, , , ,N
Projection Setup, 0.000000000, 21.000000000, 1.000000000, 4500000.00, 0.00,,,,,
Map Feature = MF ; Map Comment = MC These follow if they exist
Track File = TF These follow if they exist
Moving Map Parameters = MM? These follow if they exist
MM0,Yes
MMPNUM,4
MMPXY,1,144,275
MMPXY,2,3064,258
MMPXY,3,3073,3183
MMPXY,4,139,3198
MMPLL,1, 23.750221, 48.833316
MMPLL,2, 24.000094, 48.833424
MMPLL,3, 24.000078, 48.666783
MMPLL,4, 23.749837, 48.666777
MM1B,6.280110
MOP,Map Open Position,0,0
IWH,Map Image Width/Height,3245,3587
