OziExplorer Map Data File Version 2.2
M-34-120-3 Vyshkiv
M-34-120-3.jpg
1 ,Map Code,
Pulkovo 1942 (1),WGS 84, 0.0000, 0.0000,WGS 84
Reserved 1
Reserved 2
Magnetic Variation,,,E
Map Projection,Transverse Mercator,PolyCal,No,AutoCalOnly,No,BSBUseWPX,No
Point01,xy, 145, 287,in, deg, 48, 50.0000,N, 23, 30.0000,E, grid, , , ,N
Point02,xy, 1604, 279,in, deg, 48, 50.0000,N, 23, 37.5000,E, grid, , , ,N
Point03,xy, 3063, 268,in, deg, 48, 50.0000,N, 23, 45.0000,E, grid, , , ,N
Point04,xy, 145, 1751,in, deg, 48, 45.0000,N, 23, 30.0000,E, grid, , , ,N
Point05,xy, 1608, 1743,in, deg, 48, 45.0000,N, 23, 37.5000,E, grid, , , ,N
Point06,xy, 3068, 1732,in, deg, 48, 45.0000,N, 23, 45.0000,E, grid, , , ,N
Point07,xy, 144, 3215,in, deg, 48, 40.0000,N, 23, 30.0000,E, grid, , , ,N
Point08,xy, 1605, 3206,in, deg, 48, 40.0000,N, 23, 37.5000,E, grid, , , ,N
Point09,xy, 3071, 3196,in, deg, 48, 40.0000,N, 23, 45.0000,E, grid, , , ,N
Point10,xy, , ,in, deg, , ,N, , ,W, grid, , , ,N
Point11,xy, , ,in, deg, , ,N, , ,W, grid, , , ,N
Point12,xy, , ,in, deg, , ,N, , ,W, grid, , , ,N
Point13,xy, , ,in, deg, , ,N, , ,W, grid, , , ,N
Point14,xy, , ,in, deg, , ,N, , ,W, grid, , , ,N
Point15,xy, , ,in, deg, , ,N, , ,W, grid, , , ,N
Point16,xy, , ,in, deg, , ,N, , ,W, grid, , , ,N
Point17,xy, , ,in, deg, , ,N, , ,W, grid, , , ,N
Point18,xy, , ,in, deg, , ,N, , ,W, grid, , , ,N
Point19,xy, , ,in, deg, , ,N, , ,W, grid, , , ,N
Point20,xy, , ,in, deg, , ,N, , ,W, grid, , , ,N
Point21,xy, , ,in, deg, , ,N, , ,W, grid, , , ,N
Point22,xy, , ,in, deg, , ,N, , ,W, grid, , , ,N
Point23,xy, , ,in, deg, , ,N, , ,W, grid, , , ,N
Point24,xy, , ,in, deg, , ,N, , ,W, grid, , , ,N
Point25,xy, , ,in, deg, , ,N, , ,W, grid, , , ,N
Point26,xy, , ,in, deg, , ,N, , ,W, grid, , , ,N
Point27,xy, , ,in, deg, , ,N, , ,W, grid, , , ,N
Point28,xy, , ,in, deg, , ,N, , ,W, grid, , , ,N
Point29,xy, , ,in, deg, , ,N, , ,W, grid, , , ,N
Point30,xy, , ,in, deg, , ,N, , ,W, grid, , , ,N
Projection Setup, 0.000000000, 21.000000000, 1.000000000, 4500000.00, 0.00,,,,,
Map Feature = MF ; Map Comment = MC These follow if they exist
Track File = TF These follow if they exist
Moving Map Parameters = MM? These follow if they exist
MM0,Yes
MMPNUM,4
MMPXY,1,146,288
MMPXY,2,3062,267
MMPXY,3,3071,3195
MMPXY,4,144,3215
MMPLL,1, 23.500031, 48.833288
MMPLL,2, 23.749874, 48.833397
MMPLL,3, 23.750002, 48.666716
MMPLL,4, 23.500045, 48.666654
MM1B,6.288366
MOP,Map Open Position,0,0
IWH,Map Image Width/Height,3219,3546
