OziExplorer Map Data File Version 2.2
M-34-120-2 Vygoda
M-34-120-2.jpg
1 ,Map Code,
Pulkovo 1942 (1),WGS 84, 0.0000, 0.0000,WGS 84
Reserved 1
Reserved 2
Magnetic Variation,,,E
Map Projection,Transverse Mercator,PolyCal,No,AutoCalOnly,No,BSBUseWPX,No
Point01,xy, 243, 298,in, deg, 49, 0.0000,N, 23, 45.0000,E, grid, , , ,N
Point02,xy, 1682, 304,in, deg, 49, 0.0000,N, 23, 52.5000,E, grid, , , ,N
Point03,xy, 3138, 296,in, deg, 49, 0.0000,N, 24, 0.0000,E, grid, , , ,N
Point04,xy, 236, 1770,in, deg, 48, 55.0000,N, 23, 45.0000,E, grid, , , ,N
Point05,xy, 1689, 1767,in, deg, 48, 55.0000,N, 23, 52.5000,E, grid, , , ,N
Point06,xy, 3146, 1772,in, deg, 48, 55.0000,N, 24, 0.0000,E, grid, , , ,N
Point07,xy, 219, 3220,in, deg, 48, 50.0000,N, 23, 45.0000,E, grid, , , ,N
Point08,xy, 1674, 3229,in, deg, 48, 50.0000,N, 23, 52.5000,E, grid, , , ,N
Point09,xy, 3132, 3242,in, deg, 48, 50.0000,N, 24, 0.0000,E, grid, , , ,N
Point10,xy, , ,in, deg, , ,N, , ,E, grid, , , ,N
Point11,xy, , ,in, deg, , ,N, , ,E, grid, , , ,N
Point12,xy, , ,in, deg, , ,N, , ,E, grid, , , ,N
Point13,xy, , ,in, deg, , ,N, , ,E, grid, , , ,N
Point14,xy, , ,in, deg, , ,N, , ,E, grid, , , ,N
Point15,xy, , ,in, deg, , ,N, , ,E, grid, , , ,N
Point16,xy, , ,in, deg, , ,N, , ,E, grid, , , ,N
Point17,xy, , ,in, deg, , ,N, , ,E, grid, , , ,N
Point18,xy, , ,in, deg, , ,N, , ,E, grid, , , ,N
Point19,xy, , ,in, deg, , ,N, , ,E, grid, , , ,N
Point20,xy, , ,in, deg, , ,N, , ,E, grid, , , ,N
Point21,xy, , ,in, deg, , ,N, , ,E, grid, , , ,N
Point22,xy, , ,in, deg, , ,N, , ,E, grid, , , ,N
Point23,xy, , ,in, deg, , ,N, , ,E, grid, , , ,N
Point24,xy, , ,in, deg, , ,N, , ,E, grid, , , ,N
Point25,xy, , ,in, deg, , ,N, , ,E, grid, , , ,N
Point26,xy, , ,in, deg, , ,N, , ,E, grid, , , ,N
Point27,xy, , ,in, deg, , ,N, , ,E, grid, , , ,N
Point28,xy, , ,in, deg, , ,N, , ,E, grid, , , ,N
Point29,xy, , ,in, deg, , ,N, , ,E, grid, , , ,N
Point30,xy, , ,in, deg, , ,N, , ,E, grid, , , ,N
Projection Setup, 0.000000000, 21.000000000, 1.000000000, 4500000.00, 0.00,,,,,
Map Feature = MF ; Map Comment = MC These follow if they exist
Track File = TF These follow if they exist
Moving Map Parameters = MM? These follow if they exist
MM0,Yes
MMPNUM,4
MMPXY,1,243,298
MMPXY,2,3138,296
MMPXY,3,3132,3242
MMPXY,4,219,3220
MMPLL,1, 23.750252, 48.999941
MMPLL,2, 23.999718, 49.000463
MMPLL,3, 23.999879, 48.832952
MMPLL,4, 23.749689, 48.833776
MM1B,6.301201
Other Grid Setup
GRGRID,No,2 Km,No,16711680,255,No Labels,0,16777215,8,1,Yes,No,No,x
MOP,Map Open Position,0,0
IWH,Map Image Width/Height,3262,3610
